BEGIN:VCALENDAR
VERSION:2.0
PRODID:-//DSPNS - ECPv6.7.0//NONSGML v1.0//EN
CALSCALE:GREGORIAN
METHOD:PUBLISH
X-ORIGINAL-URL:https://www.dspns.ie
X-WR-CALDESC:Events for DSPNS
REFRESH-INTERVAL;VALUE=DURATION:PT1H
X-Robots-Tag:noindex
X-PUBLISHED-TTL:PT1H
BEGIN:VTIMEZONE
TZID:Europe/Dublin
BEGIN:STANDARD
TZOFFSETFROM:+0000
TZOFFSETTO:+0100
TZNAME:IST
DTSTART:20230326T010000
END:STANDARD
BEGIN:DAYLIGHT
TZOFFSETFROM:+0100
TZOFFSETTO:+0000
TZNAME:GMT
DTSTART:20231029T010000
END:DAYLIGHT
END:VTIMEZONE
BEGIN:VEVENT
DTSTART;VALUE=DATE:20230417
DTEND;VALUE=DATE:20230418
DTSTAMP:20260419T181009
CREATED:20221009T225823Z
LAST-MODIFIED:20221009T225935Z
UID:1690-1681689600-1681775999@www.dspns.ie
SUMMARY:Start of Term 3
DESCRIPTION:Monday 17 th April
URL:https://www.dspns.ie/event/start-of-term-3/
CATEGORIES:School
ATTACH;FMTTYPE=image/jpeg:https://www.dspns.ie/wp-content/uploads/2022/05/nic-rosenau-J_galDuu4kc-unsplash.jpg
END:VEVENT
BEGIN:VEVENT
DTSTART;TZID=Europe/Dublin:20230422T140000
DTEND;TZID=Europe/Dublin:20230422T160000
DTSTAMP:20260419T181009
CREATED:20221009T210046Z
LAST-MODIFIED:20230420T085414Z
UID:1675-1682172000-1682179200@www.dspns.ie
SUMMARY:Spring Market
DESCRIPTION:Spring Market. Saturday 22nd April
URL:https://www.dspns.ie/event/spring-market/
CATEGORIES:School
ATTACH;FMTTYPE=image/jpeg:https://www.dspns.ie/wp-content/uploads/2022/10/market.jpg
END:VEVENT
END:VCALENDAR