BEGIN:VCALENDAR
VERSION:2.0
PRODID:-//DSPNS - ECPv6.7.0//NONSGML v1.0//EN
CALSCALE:GREGORIAN
METHOD:PUBLISH
X-ORIGINAL-URL:https://www.dspns.ie
X-WR-CALDESC:Events for DSPNS
REFRESH-INTERVAL;VALUE=DURATION:PT1H
X-Robots-Tag:noindex
X-PUBLISHED-TTL:PT1H
BEGIN:VTIMEZONE
TZID:Europe/Dublin
BEGIN:STANDARD
TZOFFSETFROM:+0000
TZOFFSETTO:+0100
TZNAME:IST
DTSTART:20260329T010000
END:STANDARD
BEGIN:DAYLIGHT
TZOFFSETFROM:+0100
TZOFFSETTO:+0000
TZNAME:GMT
DTSTART:20261025T010000
END:DAYLIGHT
END:VTIMEZONE
BEGIN:VEVENT
DTSTART;TZID=Europe/Dublin:20260105T080000
DTEND;TZID=Europe/Dublin:20260323T170000
DTSTAMP:20260420T003702
CREATED:20250321T134148Z
LAST-MODIFIED:20250321T134148Z
UID:9289-1767600000-1774285200@www.dspns.ie
SUMMARY:Start of Term 2
DESCRIPTION:Term 2 runs from Monday January 5th to Friday 27th March
URL:https://www.dspns.ie/event/start-of-term-2-4/
CATEGORIES:Holidays
END:VEVENT
END:VCALENDAR